BEGIN:VCALENDAR
VERSION:2.0
PRODID:-//Best Gym in Eugene | Eugene, OR | Downtown Athletic Club - ECPv6.15.14//NONSGML v1.0//EN
CALSCALE:GREGORIAN
METHOD:PUBLISH
X-WR-CALNAME:Best Gym in Eugene | Eugene, OR | Downtown Athletic Club
X-ORIGINAL-URL:https://www.downtownac.com
X-WR-CALDESC:Events for Best Gym in Eugene | Eugene, OR | Downtown Athletic Club
REFRESH-INTERVAL;VALUE=DURATION:PT1H
X-Robots-Tag:noindex
X-PUBLISHED-TTL:PT1H
BEGIN:VTIMEZONE
TZID:America/Los_Angeles
BEGIN:DAYLIGHT
TZOFFSETFROM:-0800
TZOFFSETTO:-0700
TZNAME:PDT
DTSTART:20250309T100000
END:DAYLIGHT
BEGIN:STANDARD
TZOFFSETFROM:-0700
TZOFFSETTO:-0800
TZNAME:PST
DTSTART:20251102T090000
END:STANDARD
BEGIN:DAYLIGHT
TZOFFSETFROM:-0800
TZOFFSETTO:-0700
TZNAME:PDT
DTSTART:20260308T100000
END:DAYLIGHT
BEGIN:STANDARD
TZOFFSETFROM:-0700
TZOFFSETTO:-0800
TZNAME:PST
DTSTART:20261101T090000
END:STANDARD
BEGIN:DAYLIGHT
TZOFFSETFROM:-0800
TZOFFSETTO:-0700
TZNAME:PDT
DTSTART:20270314T100000
END:DAYLIGHT
BEGIN:STANDARD
TZOFFSETFROM:-0700
TZOFFSETTO:-0800
TZNAME:PST
DTSTART:20271107T090000
END:STANDARD
END:VTIMEZONE
BEGIN:VEVENT
DTSTART;TZID=America/Los_Angeles:20260507T180000
DTEND;TZID=America/Los_Angeles:20260507T193000
DTSTAMP:20260425T043105
CREATED:20260401T161849Z
LAST-MODIFIED:20260401T161849Z
UID:10000257-1778176800-1778182200@www.downtownac.com
SUMMARY:Bingo at Zest with Ty Connor
DESCRIPTION:There’s nothing better than a room full of good people\, good vibes\, and someone calling B-7 at just the right moment. Join us at Zest for Bingo with the legendary Ty Connor as he spins the wheel from 6pm – 7:30pm. Cards are just $1 each\, the fun is unlimited\, and rolling in between 4pm – 6pm means you’ll catch happy hour too. \nBring the whole crew — the more\, the merrier! \nAre you one that needs to see the menu before you go? We got you. Check out Zest’s page here. \nScheduled Bingo Dates:\nMay 7 \nMay 21 \nJune 4 \nJune 18
URL:https://www.downtownac.com/event/bingo-at-zest-with-ty-connor/2026-05-07/
LOCATION:Zest: Kitchen and Bar\, 999 WILLAMETTE ST; Floor 3\, EUGENE\, OR\, 97401\, United States
CATEGORIES:Free Event
ATTACH;FMTTYPE=image/gif:https://www.downtownac.com/wp-content/uploads/2026/04/bingo-gif.gif
END:VEVENT
BEGIN:VEVENT
DTSTART;TZID=America/Los_Angeles:20260510T100000
DTEND;TZID=America/Los_Angeles:20260510T140000
DTSTAMP:20260425T043105
CREATED:20260423T183212Z
LAST-MODIFIED:20260423T183632Z
UID:10000268-1778407200-1778421600@www.downtownac.com
SUMMARY:Mother's Day Brunch at Zest
DESCRIPTION:Celebrate the women who do it all with a beautifully curated Mother’s Day Brunch at Zest Kitchen + Bar! This is more than a meal\, it’s a moment to slow down\, gather\, and enjoy exceptional food in an elevated\, welcoming setting. From chef-crafted carving stations to indulgent pastries and made-to-order favorites\, every detail is designed to make the day feel special. Read the full menu below. \n\nCarving Station\n\nHoney Glazed Ham\nGrilled Tri Tip with sauce options\nPoached Lemon Herb Salmon\n\n\nEggs Benedict Station (Made to Order)\n\nChoice of meats\, spinach\, or avocado\n\n\nMain Buffet\n\nVegetarian Frittata\nScrambled Eggs (cheese on the side)\nCrispy Bacon + Sausage Links\nHerbed Home Fried Potatoes\nFresh Fruit\nSpinach Salad with nuts\, dried cranberries\, feta\, lemon vinaigrette\n\n\nPastry + Dessert Station\n\nHouse-made coffee cake and danish\nBagels with assorted spreads\nCroissants\nLemon Bars\nMini Mousse Cups\nBelgian Waffles with syrup\, strawberries\, whipped cream\, butter\n\n\nBeverages\n\nCoffee\, tea\, water\, lemonade\nComplimentary beverage for moms!\n\n\nPricing:\n\nAdults: $65\nChildren (5–12): $25\nChildren under 5: Free\nDAC Members receive 10% off \n\n\n\nBring your family\, invite someone special\, and make this Mother’s Day one to remember. Seats will fill quickly\, as this is one of the most anticipated gatherings of the season! Choose your preferred seating time\, 10am or 12pm\, and secure your table today. \nPurchase tickets at zesteugene.com
URL:https://www.downtownac.com/event/mothers-day-brunch-at-zest/
LOCATION:Zest: Kitchen and Bar\, 999 WILLAMETTE ST; Floor 3\, EUGENE\, OR\, 97401\, United States
CATEGORIES:Zest
ATTACH;FMTTYPE=image/png:https://www.downtownac.com/wp-content/uploads/2026/04/Mothers-Day-Brunch.png
ORGANIZER;CN="Zest%3A Kitchen and Bar":MAILTO:zesteugene@gmail.com
END:VEVENT
BEGIN:VEVENT
DTSTART;TZID=America/Los_Angeles:20260521T180000
DTEND;TZID=America/Los_Angeles:20260521T193000
DTSTAMP:20260425T043105
CREATED:20260401T161849Z
LAST-MODIFIED:20260401T161849Z
UID:10000258-1779386400-1779391800@www.downtownac.com
SUMMARY:Bingo at Zest with Ty Connor
DESCRIPTION:There’s nothing better than a room full of good people\, good vibes\, and someone calling B-7 at just the right moment. Join us at Zest for Bingo with the legendary Ty Connor as he spins the wheel from 6pm – 7:30pm. Cards are just $1 each\, the fun is unlimited\, and rolling in between 4pm – 6pm means you’ll catch happy hour too. \nBring the whole crew — the more\, the merrier! \nAre you one that needs to see the menu before you go? We got you. Check out Zest’s page here. \nScheduled Bingo Dates:\nMay 7 \nMay 21 \nJune 4 \nJune 18
URL:https://www.downtownac.com/event/bingo-at-zest-with-ty-connor/2026-05-21/
LOCATION:Zest: Kitchen and Bar\, 999 WILLAMETTE ST; Floor 3\, EUGENE\, OR\, 97401\, United States
CATEGORIES:Free Event
ATTACH;FMTTYPE=image/gif:https://www.downtownac.com/wp-content/uploads/2026/04/bingo-gif.gif
END:VEVENT
BEGIN:VEVENT
DTSTART;TZID=America/Los_Angeles:20260528T190000
DTEND;TZID=America/Los_Angeles:20260528T210000
DTSTAMP:20260425T043105
CREATED:20260309T154953Z
LAST-MODIFIED:20260407T195513Z
UID:10000244-1779994800-1780002000@www.downtownac.com
SUMMARY:Cancer Creates Warriors 2nd Annual Trivia Night Fundraiser
DESCRIPTION:Join us for Cancer Creates Warriors 2nd Annual Trivia Night Fundraiser to the updated date\, Thursday\, 5/28 at Zest! It’s trivia night for a cause with a wellness theme\, raffle prizes\, and music bingo. All to support cancer warriors heading to France for the Dragon Boat Cup this August! Gather your friends\, build your trivia dream team\, and join us for a lively night of questions\, prizes\, and community. \n\n⭐ Last year’s event sold out — grab your tickets early on Eventbrite! \n🎉 What to Expect \n• Wellness-themed trivia rounds\n• Raffle prizes throughout the night\n• Music Bingo with a 50/50 prize\n• Great food\, drinks\, and community\n• A chance to support cancer warriors training to compete in the Dragon Boat Cup in France this August \n\nTo donate or learn more about Cancer Creates Warriors\, check out their website.
URL:https://www.downtownac.com/event/cancer-creates-warriors-2nd-annual-trivia-night-fundraiser/
LOCATION:Zest: Kitchen and Bar\, 999 WILLAMETTE ST; Floor 3\, EUGENE\, OR\, 97401\, United States
CATEGORIES:Zest
ATTACH;FMTTYPE=image/png:https://www.downtownac.com/wp-content/uploads/2026/03/Trivia-Night.png
END:VEVENT
BEGIN:VEVENT
DTSTART;TZID=America/Los_Angeles:20260604T180000
DTEND;TZID=America/Los_Angeles:20260604T193000
DTSTAMP:20260425T043105
CREATED:20260401T161849Z
LAST-MODIFIED:20260401T161849Z
UID:10000259-1780596000-1780601400@www.downtownac.com
SUMMARY:Bingo at Zest with Ty Connor
DESCRIPTION:There’s nothing better than a room full of good people\, good vibes\, and someone calling B-7 at just the right moment. Join us at Zest for Bingo with the legendary Ty Connor as he spins the wheel from 6pm – 7:30pm. Cards are just $1 each\, the fun is unlimited\, and rolling in between 4pm – 6pm means you’ll catch happy hour too. \nBring the whole crew — the more\, the merrier! \nAre you one that needs to see the menu before you go? We got you. Check out Zest’s page here. \nScheduled Bingo Dates:\nMay 7 \nMay 21 \nJune 4 \nJune 18
URL:https://www.downtownac.com/event/bingo-at-zest-with-ty-connor/2026-06-04/
LOCATION:Zest: Kitchen and Bar\, 999 WILLAMETTE ST; Floor 3\, EUGENE\, OR\, 97401\, United States
CATEGORIES:Free Event
ATTACH;FMTTYPE=image/gif:https://www.downtownac.com/wp-content/uploads/2026/04/bingo-gif.gif
END:VEVENT
BEGIN:VEVENT
DTSTART;TZID=America/Los_Angeles:20260618T180000
DTEND;TZID=America/Los_Angeles:20260618T193000
DTSTAMP:20260425T043105
CREATED:20260401T161849Z
LAST-MODIFIED:20260401T161849Z
UID:10000260-1781805600-1781811000@www.downtownac.com
SUMMARY:Bingo at Zest with Ty Connor
DESCRIPTION:There’s nothing better than a room full of good people\, good vibes\, and someone calling B-7 at just the right moment. Join us at Zest for Bingo with the legendary Ty Connor as he spins the wheel from 6pm – 7:30pm. Cards are just $1 each\, the fun is unlimited\, and rolling in between 4pm – 6pm means you’ll catch happy hour too. \nBring the whole crew — the more\, the merrier! \nAre you one that needs to see the menu before you go? We got you. Check out Zest’s page here. \nScheduled Bingo Dates:\nMay 7 \nMay 21 \nJune 4 \nJune 18
URL:https://www.downtownac.com/event/bingo-at-zest-with-ty-connor/2026-06-18/
LOCATION:Zest: Kitchen and Bar\, 999 WILLAMETTE ST; Floor 3\, EUGENE\, OR\, 97401\, United States
CATEGORIES:Free Event
ATTACH;FMTTYPE=image/gif:https://www.downtownac.com/wp-content/uploads/2026/04/bingo-gif.gif
END:VEVENT
BEGIN:VEVENT
DTSTART;TZID=America/Los_Angeles:20260628T160000
DTEND;TZID=America/Los_Angeles:20260628T190000
DTSTAMP:20260425T043105
CREATED:20260409T174503Z
LAST-MODIFIED:20260409T174503Z
UID:10000263-1782662400-1782673200@www.downtownac.com
SUMMARY:Rooftop Member Social at Zest
DESCRIPTION:SAVE THE DATE\nMore information to come soon.
URL:https://www.downtownac.com/event/rooftop-member-social-at-zest/
LOCATION:Zest: Kitchen and Bar\, 999 WILLAMETTE ST; Floor 3\, EUGENE\, OR\, 97401\, United States
CATEGORIES:Social Event
ATTACH;FMTTYPE=image/jpeg:https://www.downtownac.com/wp-content/uploads/2026/04/IMG_7745.jpg
END:VEVENT
END:VCALENDAR