BEGIN:VCALENDAR
VERSION:2.0
PRODID:-//Best Gym in Eugene | Eugene, OR | Downtown Athletic Club - ECPv6.15.14//NONSGML v1.0//EN
CALSCALE:GREGORIAN
METHOD:PUBLISH
X-ORIGINAL-URL:https://www.downtownac.com
X-WR-CALDESC:Events for Best Gym in Eugene | Eugene, OR | Downtown Athletic Club
REFRESH-INTERVAL;VALUE=DURATION:PT1H
X-Robots-Tag:noindex
X-PUBLISHED-TTL:PT1H
BEGIN:VTIMEZONE
TZID:America/Los_Angeles
BEGIN:DAYLIGHT
TZOFFSETFROM:-0800
TZOFFSETTO:-0700
TZNAME:PDT
DTSTART:20250309T100000
END:DAYLIGHT
BEGIN:STANDARD
TZOFFSETFROM:-0700
TZOFFSETTO:-0800
TZNAME:PST
DTSTART:20251102T090000
END:STANDARD
BEGIN:DAYLIGHT
TZOFFSETFROM:-0800
TZOFFSETTO:-0700
TZNAME:PDT
DTSTART:20260308T100000
END:DAYLIGHT
BEGIN:STANDARD
TZOFFSETFROM:-0700
TZOFFSETTO:-0800
TZNAME:PST
DTSTART:20261101T090000
END:STANDARD
BEGIN:DAYLIGHT
TZOFFSETFROM:-0800
TZOFFSETTO:-0700
TZNAME:PDT
DTSTART:20270314T100000
END:DAYLIGHT
BEGIN:STANDARD
TZOFFSETFROM:-0700
TZOFFSETTO:-0800
TZNAME:PST
DTSTART:20271107T090000
END:STANDARD
BEGIN:DAYLIGHT
TZOFFSETFROM:-0800
TZOFFSETTO:-0700
TZNAME:PDT
DTSTART:20280312T100000
END:DAYLIGHT
BEGIN:STANDARD
TZOFFSETFROM:-0700
TZOFFSETTO:-0800
TZNAME:PST
DTSTART:20281105T090000
END:STANDARD
END:VTIMEZONE
BEGIN:VEVENT
DTSTART;TZID=America/Los_Angeles:20260428T173000
DTEND;TZID=America/Los_Angeles:20260428T183000
DTSTAMP:20260422T155648
CREATED:20260401T005337Z
LAST-MODIFIED:20260409T171654Z
UID:10000256-1777397400-1777401000@www.downtownac.com
SUMMARY:Spring Speaker Series | Kiki Kuchin\, AI Consultant
DESCRIPTION:Four evenings. Four local experts. All dedicated to helping you live better — inside the gym and far beyond it. Each speaker brings an hour of real\, practical insight designed specifically for our community. \n\n\nJoin Kiki\, local AI consultant\, as she cuts through the noise and shows you in plain language how to use AI in your daily routines. Saving time\, tracking progress\, and staying focused on what matters most. No jargon\, no hype. Just practical guidance you can actually use. \nJoin us in the Sunset Room on the 3rd floor. Grab a friend and a drink from Zest — the more\, the merrier! \n\n\n\n\nMembers: Free\nGuests: $15\n\n\nSpeaker Series Line Up\nApril 14 | Rachel Williams\, Eugene Stylist | Dressed for Life: Style Outside the Gym\nApril 28 | Kiki Kuchin\, AI Consultant | Fitness Related Problems for AI\nMay 6 | Kristina Bennett-Cheney\, Life Coach | Fork in the Road & Feeling Confused? Tools to Access Inner Guidance\nMay 20 | Lee Ann Hawkins\, HeartMath® Practitioner | Building Stress Resilience + Emotional Balance through Heart Coherence Techniques
URL:https://www.downtownac.com/event/spring-speaker-series-kiki-kuchin-ai-consultant/
LOCATION:Sunset Room
CATEGORIES:Pop-Up,Spring Speaker Series
ATTACH;FMTTYPE=image/png:https://www.downtownac.com/wp-content/uploads/2026/03/Kiki-Kuchin-SSS.png
END:VEVENT
BEGIN:VEVENT
DTSTART;TZID=America/Los_Angeles:20260501T170000
DTEND;TZID=America/Los_Angeles:20260501T190000
DTSTAMP:20260422T155648
CREATED:20260409T200534Z
LAST-MODIFIED:20260409T200534Z
UID:10000264-1777654800-1777662000@www.downtownac.com
SUMMARY:First Friday ArtWalk with the Eugene Symphony
DESCRIPTION:Experience First Friday ArtWalk at the Downtown Athletic Club in partnership with the Eugene Symphony. Join us in the Lobby for an evening of live music performed by Eugene Symphony musicians\, surrounded by the vibrant spirit of downtown Eugene. \nThe ArtWalk is free and open to the public\, featuring dozens of locations throughout the city showcasing local artists and creative spaces. We’re proud to be part of a community that values art\, culture\, and connection\, and we’d love to welcome you in. \nStop by\, stay awhile\, and enjoy the music. \nBeer\, wine and soda are available for sale.
URL:https://www.downtownac.com/event/first-friday-artwalk-with-the-eugene-symphony-8/
LOCATION:DAC Lobby\, 999 Willamette St\, EUGENE\, OR\, 97401\, United States
CATEGORIES:Free Event
ATTACH;FMTTYPE=image/png:https://www.downtownac.com/wp-content/uploads/2026/01/FFAW-updated.png
END:VEVENT
BEGIN:VEVENT
DTSTART;TZID=America/Los_Angeles:20260506T173000
DTEND;TZID=America/Los_Angeles:20260506T183000
DTSTAMP:20260422T155648
CREATED:20260407T155249Z
LAST-MODIFIED:20260409T171637Z
UID:10000261-1778088600-1778092200@www.downtownac.com
SUMMARY:Spring Speaker Series | Kristina Bennett-Cheney\, Life Coach
DESCRIPTION:Four evenings. Four local experts. All dedicated to helping you live better — inside the gym and far beyond it. Each speaker brings an hour of real\, practical insight designed specifically for our community. \n\n\nJoin Kristina\, Career Counselor and Life Transitions Coach\, for an honest and energizing conversation about aligning your daily habits with who you actually want to become. From managing self-talk to setting goals that stick\, this session is for anyone who wants to feel more in control\, more motivated\, and more like themselves. \nJoin us in the Sunset Room on the 3rd floor. Grab a friend and a drink from Zest — the more\, the merrier! \n\n\n\n\nMembers: Free\nGuests: $15\n\n\nSpeaker Series Line Up\n\nApril 14 | Rachel Williams\, Eugene Stylist | Dressed for Life: Style Outside the Gym\nApril 28 | Kiki Kuchin\, AI Consultant | Fitness Related Problems for AI\n\nMay 6 | Kristina Bennett-Cheney\, Life Coach | Fork in the Road & Feeling Confused? Tools to Access Inner Guidance\nMay 20 | Lee Ann Hawkins\, HeartMath® Practitioner | Building Stress Resilience + Emotional Balance through Heart Coherence Techniques
URL:https://www.downtownac.com/event/spring-speaker-series-kristina-bennett-cheney-life-coach/
LOCATION:Sunset Room
CATEGORIES:Pop-Up,Spring Speaker Series
ATTACH;FMTTYPE=image/png:https://www.downtownac.com/wp-content/uploads/2026/04/Kristina-Bennett-Cheney-SSS.png
END:VEVENT
BEGIN:VEVENT
DTSTART;TZID=America/Los_Angeles:20260507T180000
DTEND;TZID=America/Los_Angeles:20260507T193000
DTSTAMP:20260422T155648
CREATED:20260401T161849Z
LAST-MODIFIED:20260401T161849Z
UID:10000257-1778176800-1778182200@www.downtownac.com
SUMMARY:Bingo at Zest with Ty Connor
DESCRIPTION:There’s nothing better than a room full of good people\, good vibes\, and someone calling B-7 at just the right moment. Join us at Zest for Bingo with the legendary Ty Connor as he spins the wheel from 6pm – 7:30pm. Cards are just $1 each\, the fun is unlimited\, and rolling in between 4pm – 6pm means you’ll catch happy hour too. \nBring the whole crew — the more\, the merrier! \nAre you one that needs to see the menu before you go? We got you. Check out Zest’s page here. \nScheduled Bingo Dates:\nMay 7 \nMay 21 \nJune 4 \nJune 18
URL:https://www.downtownac.com/event/bingo-at-zest-with-ty-connor/2026-05-07/
LOCATION:Zest: Kitchen and Bar\, 999 WILLAMETTE ST; Floor 3\, EUGENE\, OR\, 97401\, United States
CATEGORIES:Free Event
ATTACH;FMTTYPE=image/gif:https://www.downtownac.com/wp-content/uploads/2026/04/bingo-gif.gif
END:VEVENT
BEGIN:VEVENT
DTSTART;TZID=America/Los_Angeles:20260513T170000
DTEND;TZID=America/Los_Angeles:20260513T190000
DTSTAMP:20260422T155648
CREATED:20260416T185234Z
LAST-MODIFIED:20260416T211712Z
UID:10000266-1778691600-1778698800@www.downtownac.com
SUMMARY:Picture Perfect Happy Hour with Moondance Photography
DESCRIPTION:Look great\, feel great…and finally update that LinkedIn photo. Come to the DAC’s Picture Perfect Happy Hour to pair a professional headshot session with good drinks\, great snacks\, and even better company. Photographer Mary Camu of Moondance Photography brings her talent for capturing people at their most authentic\, so forget the stiff poses and uncomfortable smiles. Just show up as you are\, have fun with it\, and walk away with a headshot that actually feels like you. \nGrab your ticket and invite your coworkers; this one’s worth sharing. If you don’t need a headshot but want to network\, you’re more than welcome to come for free\, purchase drinks at the bar and continue networking. \nEvery advance ticket purchase includes: \n\nProfessional headshot session with Mary Camu of Moondance Photography\nOne drink from the bar\nComplimentary bar snacks\nDigital photo delivered to your inbox\n\nMembers: $25 | Non-Members: $30 | Don’t need a headshot but want to connect? Free to attend. \nDAC Lobby | 5pm – 7pm
URL:https://www.downtownac.com/event/picture-perfect-happy-hour-with-moondance-photography/
LOCATION:DAC Lobby\, 999 Willamette St\, EUGENE\, OR\, 97401\, United States
CATEGORIES:Social Event
ATTACH;FMTTYPE=image/png:https://www.downtownac.com/wp-content/uploads/2026/04/Picture-Perfect-Happy-Hour.png
END:VEVENT
BEGIN:VEVENT
DTSTART;TZID=America/Los_Angeles:20260520T173000
DTEND;TZID=America/Los_Angeles:20260520T183000
DTSTAMP:20260422T155648
CREATED:20260407T155639Z
LAST-MODIFIED:20260409T171612Z
UID:10000262-1779298200-1779301800@www.downtownac.com
SUMMARY:Spring Speaker Series | Lee Ann Hawkins\, HeartMath® Practitioner
DESCRIPTION:Four evenings. Four local experts. All dedicated to helping you live better — inside the gym and far beyond it. Each speaker brings an hour of real\, practical insight designed specifically for our community. \n\n\nThis workshop is for anyone who may be feeling burnt out\, stressed out\, or wants to learn new ways of reducing stress\, balancing emotions\, or enhancing overall health and wellbeing. The intention is simple: to give you hope that you can feel better\, and that it is possible to create a sense of inner peace in the midst of chaos and uncertainty. \nJoin Lee Ann\, HeartMath Practitioner®\, as she guides you through an interactive experience rooted in evidence-based techniques. Together you’ll identify a personal challenge you’d like to work on\, explore how stress actually lives in the body and heart\, and then practice three heart coherence techniques designed to shift how you feel in real time. You’ll assess your stress levels after each technique and close by reflecting on any new thoughts\, emotions\, or behaviors that surfaced along the way. \nJoin us in the Sunset Room on the 3rd floor. Grab a friend and a drink from Zest — the more\, the merrier! \n\n\n\n\nMembers: Free\nGuests: $15\n\n\nSpeaker Series Line Up\n\nApril 14 | Rachel Williams\, Eugene Stylist | Dressed for Life: Style Outside the Gym\nApril 28 | Kiki Kuchin\, AI Consultant | Fitness Related Problems for AI\n\nMay 6 | Kristina Bennett-Cheney\, Life Coach | Fork in the Road & Feeling Confused? Tools to Access Inner Guidance\nMay 20 | Lee Ann Hawkins\, HeartMath® Practitioner | Building Stress Resilience + Emotional Balance through Heart Coherence Techniques
URL:https://www.downtownac.com/event/spring-speaker-series-leanne-hawkins-heart-math-specialist/
LOCATION:Sunset Room
CATEGORIES:Pop-Up,Spring Speaker Series
ATTACH;FMTTYPE=image/png:https://www.downtownac.com/wp-content/uploads/2026/03/Leanne-Hawkins-SSS.png
END:VEVENT
BEGIN:VEVENT
DTSTART;TZID=America/Los_Angeles:20260521T180000
DTEND;TZID=America/Los_Angeles:20260521T193000
DTSTAMP:20260422T155648
CREATED:20260401T161849Z
LAST-MODIFIED:20260401T161849Z
UID:10000258-1779386400-1779391800@www.downtownac.com
SUMMARY:Bingo at Zest with Ty Connor
DESCRIPTION:There’s nothing better than a room full of good people\, good vibes\, and someone calling B-7 at just the right moment. Join us at Zest for Bingo with the legendary Ty Connor as he spins the wheel from 6pm – 7:30pm. Cards are just $1 each\, the fun is unlimited\, and rolling in between 4pm – 6pm means you’ll catch happy hour too. \nBring the whole crew — the more\, the merrier! \nAre you one that needs to see the menu before you go? We got you. Check out Zest’s page here. \nScheduled Bingo Dates:\nMay 7 \nMay 21 \nJune 4 \nJune 18
URL:https://www.downtownac.com/event/bingo-at-zest-with-ty-connor/2026-05-21/
LOCATION:Zest: Kitchen and Bar\, 999 WILLAMETTE ST; Floor 3\, EUGENE\, OR\, 97401\, United States
CATEGORIES:Free Event
ATTACH;FMTTYPE=image/gif:https://www.downtownac.com/wp-content/uploads/2026/04/bingo-gif.gif
END:VEVENT
BEGIN:VEVENT
DTSTART;VALUE=DATE:20260525
DTEND;VALUE=DATE:20260526
DTSTAMP:20260422T155648
CREATED:20260323T175747Z
LAST-MODIFIED:20260323T175747Z
UID:10000246-1779667200-1779753599@www.downtownac.com
SUMMARY:CLOSED - Memorial Day
DESCRIPTION:The DAC\, Newberry\, and Zest are closed in observance of Memorial Day.
URL:https://www.downtownac.com/event/closed-memorial-day/
LOCATION:Downtown Athletic Club\, 999 WILLAMETTE ST\, EUGENE\, OR\, 97401\, United States
CATEGORIES:Holidays
ATTACH;FMTTYPE=image/png:https://www.downtownac.com/wp-content/uploads/2025/06/Closed-on-Memorial-Day.png
END:VEVENT
BEGIN:VEVENT
DTSTART;TZID=America/Los_Angeles:20260528T190000
DTEND;TZID=America/Los_Angeles:20260528T210000
DTSTAMP:20260422T155648
CREATED:20260309T154953Z
LAST-MODIFIED:20260407T195513Z
UID:10000244-1779994800-1780002000@www.downtownac.com
SUMMARY:Cancer Creates Warriors 2nd Annual Trivia Night Fundraiser
DESCRIPTION:Join us for Cancer Creates Warriors 2nd Annual Trivia Night Fundraiser to the updated date\, Thursday\, 5/28 at Zest! It’s trivia night for a cause with a wellness theme\, raffle prizes\, and music bingo. All to support cancer warriors heading to France for the Dragon Boat Cup this August! Gather your friends\, build your trivia dream team\, and join us for a lively night of questions\, prizes\, and community. \n\n⭐ Last year’s event sold out — grab your tickets early on Eventbrite! \n🎉 What to Expect \n• Wellness-themed trivia rounds\n• Raffle prizes throughout the night\n• Music Bingo with a 50/50 prize\n• Great food\, drinks\, and community\n• A chance to support cancer warriors training to compete in the Dragon Boat Cup in France this August \n\nTo donate or learn more about Cancer Creates Warriors\, check out their website.
URL:https://www.downtownac.com/event/cancer-creates-warriors-2nd-annual-trivia-night-fundraiser/
LOCATION:Zest: Kitchen and Bar\, 999 WILLAMETTE ST; Floor 3\, EUGENE\, OR\, 97401\, United States
CATEGORIES:Zest
ATTACH;FMTTYPE=image/png:https://www.downtownac.com/wp-content/uploads/2026/03/Trivia-Night.png
END:VEVENT
BEGIN:VEVENT
DTSTART;VALUE=DATE:20260529
DTEND;VALUE=DATE:20260530
DTSTAMP:20260422T155648
CREATED:20260126T172843Z
LAST-MODIFIED:20260126T172843Z
UID:10000233-1780012800-1780099199@www.downtownac.com
SUMMARY:Free Guest Friday
DESCRIPTION:Members are allowed to bring in one guest for FREE every last Friday of the month.* \nCome on\, besties. Let’s have a great Friday. \n*Guest must check in with a current DAC member to receive free access. One guest per member allowed during free guest days.
URL:https://www.downtownac.com/event/free-guest-friday-14/2026-05-29/
LOCATION:Downtown Athletic Club\, 999 WILLAMETTE ST\, EUGENE\, OR\, 97401\, United States
CATEGORIES:Free Guest Day(s)
ATTACH;FMTTYPE=image/jpeg:https://www.downtownac.com/wp-content/uploads/2023/02/306913488_10159961450802559_8050636181453641474_n.jpg
END:VEVENT
BEGIN:VEVENT
DTSTART;TZID=America/Los_Angeles:20260604T180000
DTEND;TZID=America/Los_Angeles:20260604T193000
DTSTAMP:20260422T155648
CREATED:20260401T161849Z
LAST-MODIFIED:20260401T161849Z
UID:10000259-1780596000-1780601400@www.downtownac.com
SUMMARY:Bingo at Zest with Ty Connor
DESCRIPTION:There’s nothing better than a room full of good people\, good vibes\, and someone calling B-7 at just the right moment. Join us at Zest for Bingo with the legendary Ty Connor as he spins the wheel from 6pm – 7:30pm. Cards are just $1 each\, the fun is unlimited\, and rolling in between 4pm – 6pm means you’ll catch happy hour too. \nBring the whole crew — the more\, the merrier! \nAre you one that needs to see the menu before you go? We got you. Check out Zest’s page here. \nScheduled Bingo Dates:\nMay 7 \nMay 21 \nJune 4 \nJune 18
URL:https://www.downtownac.com/event/bingo-at-zest-with-ty-connor/2026-06-04/
LOCATION:Zest: Kitchen and Bar\, 999 WILLAMETTE ST; Floor 3\, EUGENE\, OR\, 97401\, United States
CATEGORIES:Free Event
ATTACH;FMTTYPE=image/gif:https://www.downtownac.com/wp-content/uploads/2026/04/bingo-gif.gif
END:VEVENT
BEGIN:VEVENT
DTSTART;TZID=America/Los_Angeles:20260605T170000
DTEND;TZID=America/Los_Angeles:20260605T190000
DTSTAMP:20260422T155648
CREATED:20260409T204948Z
LAST-MODIFIED:20260409T204948Z
UID:10000265-1780678800-1780686000@www.downtownac.com
SUMMARY:First Friday ArtWalk with the Eugene Symphony
DESCRIPTION:Experience First Friday ArtWalk at the Downtown Athletic Club in partnership with the Eugene Symphony. Join us in the Lobby for an evening of live music performed by Eugene Symphony musicians\, surrounded by the vibrant spirit of downtown Eugene. \nThe ArtWalk is free and open to the public\, featuring dozens of locations throughout the city showcasing local artists and creative spaces. We’re proud to be part of a community that values art\, culture\, and connection\, and we’d love to welcome you in. \nStop by\, stay awhile\, and enjoy the music. \nBeer\, wine and soda are available for sale.
URL:https://www.downtownac.com/event/first-friday-artwalk-with-the-eugene-symphony-9/
LOCATION:DAC Lobby\, 999 Willamette St\, EUGENE\, OR\, 97401\, United States
CATEGORIES:Free Event
ATTACH;FMTTYPE=image/png:https://www.downtownac.com/wp-content/uploads/2026/01/FFAW-updated.png
END:VEVENT
BEGIN:VEVENT
DTSTART;TZID=America/Los_Angeles:20260618T180000
DTEND;TZID=America/Los_Angeles:20260618T193000
DTSTAMP:20260422T155648
CREATED:20260401T161849Z
LAST-MODIFIED:20260401T161849Z
UID:10000260-1781805600-1781811000@www.downtownac.com
SUMMARY:Bingo at Zest with Ty Connor
DESCRIPTION:There’s nothing better than a room full of good people\, good vibes\, and someone calling B-7 at just the right moment. Join us at Zest for Bingo with the legendary Ty Connor as he spins the wheel from 6pm – 7:30pm. Cards are just $1 each\, the fun is unlimited\, and rolling in between 4pm – 6pm means you’ll catch happy hour too. \nBring the whole crew — the more\, the merrier! \nAre you one that needs to see the menu before you go? We got you. Check out Zest’s page here. \nScheduled Bingo Dates:\nMay 7 \nMay 21 \nJune 4 \nJune 18
URL:https://www.downtownac.com/event/bingo-at-zest-with-ty-connor/2026-06-18/
LOCATION:Zest: Kitchen and Bar\, 999 WILLAMETTE ST; Floor 3\, EUGENE\, OR\, 97401\, United States
CATEGORIES:Free Event
ATTACH;FMTTYPE=image/gif:https://www.downtownac.com/wp-content/uploads/2026/04/bingo-gif.gif
END:VEVENT
BEGIN:VEVENT
DTSTART;VALUE=DATE:20260626
DTEND;VALUE=DATE:20260627
DTSTAMP:20260422T155648
CREATED:20260126T172843Z
LAST-MODIFIED:20260126T172843Z
UID:10000234-1782432000-1782518399@www.downtownac.com
SUMMARY:Free Guest Friday
DESCRIPTION:Members are allowed to bring in one guest for FREE every last Friday of the month.* \nCome on\, besties. Let’s have a great Friday. \n*Guest must check in with a current DAC member to receive free access. One guest per member allowed during free guest days.
URL:https://www.downtownac.com/event/free-guest-friday-14/2026-06-26/
LOCATION:Downtown Athletic Club\, 999 WILLAMETTE ST\, EUGENE\, OR\, 97401\, United States
CATEGORIES:Free Guest Day(s)
ATTACH;FMTTYPE=image/jpeg:https://www.downtownac.com/wp-content/uploads/2023/02/306913488_10159961450802559_8050636181453641474_n.jpg
END:VEVENT
BEGIN:VEVENT
DTSTART;TZID=America/Los_Angeles:20260628T160000
DTEND;TZID=America/Los_Angeles:20260628T190000
DTSTAMP:20260422T155648
CREATED:20260409T174503Z
LAST-MODIFIED:20260409T174503Z
UID:10000263-1782662400-1782673200@www.downtownac.com
SUMMARY:Rooftop Member Social at Zest
DESCRIPTION:SAVE THE DATE\nMore information to come soon.
URL:https://www.downtownac.com/event/rooftop-member-social-at-zest/
LOCATION:Zest: Kitchen and Bar\, 999 WILLAMETTE ST; Floor 3\, EUGENE\, OR\, 97401\, United States
CATEGORIES:Social Event
ATTACH;FMTTYPE=image/jpeg:https://www.downtownac.com/wp-content/uploads/2026/04/IMG_7745.jpg
END:VEVENT
BEGIN:VEVENT
DTSTART;VALUE=DATE:20260704
DTEND;VALUE=DATE:20260705
DTSTAMP:20260422T155648
CREATED:20260323T175934Z
LAST-MODIFIED:20260323T175934Z
UID:10000247-1783123200-1783209599@www.downtownac.com
SUMMARY:CLOSED - Independence Day
DESCRIPTION:The DAC and Newberry Preschool are closed in observance of Independence Day.
URL:https://www.downtownac.com/event/closed-independence-day/
LOCATION:Downtown Athletic Club\, 999 WILLAMETTE ST\, EUGENE\, OR\, 97401\, United States
CATEGORIES:Holidays
ATTACH;FMTTYPE=image/png:https://www.downtownac.com/wp-content/uploads/2025/06/Closed-on-Independence-Day.png
END:VEVENT
BEGIN:VEVENT
DTSTART;VALUE=DATE:20260731
DTEND;VALUE=DATE:20260801
DTSTAMP:20260422T155648
CREATED:20260126T172843Z
LAST-MODIFIED:20260126T172843Z
UID:10000235-1785456000-1785542399@www.downtownac.com
SUMMARY:Free Guest Friday
DESCRIPTION:Members are allowed to bring in one guest for FREE every last Friday of the month.* \nCome on\, besties. Let’s have a great Friday. \n*Guest must check in with a current DAC member to receive free access. One guest per member allowed during free guest days.
URL:https://www.downtownac.com/event/free-guest-friday-14/2026-07-31/
LOCATION:Downtown Athletic Club\, 999 WILLAMETTE ST\, EUGENE\, OR\, 97401\, United States
CATEGORIES:Free Guest Day(s)
ATTACH;FMTTYPE=image/jpeg:https://www.downtownac.com/wp-content/uploads/2023/02/306913488_10159961450802559_8050636181453641474_n.jpg
END:VEVENT
BEGIN:VEVENT
DTSTART;VALUE=DATE:20260828
DTEND;VALUE=DATE:20260829
DTSTAMP:20260422T155648
CREATED:20260126T172843Z
LAST-MODIFIED:20260126T172843Z
UID:10000236-1787875200-1787961599@www.downtownac.com
SUMMARY:Free Guest Friday
DESCRIPTION:Members are allowed to bring in one guest for FREE every last Friday of the month.* \nCome on\, besties. Let’s have a great Friday. \n*Guest must check in with a current DAC member to receive free access. One guest per member allowed during free guest days.
URL:https://www.downtownac.com/event/free-guest-friday-14/2026-08-28/
LOCATION:Downtown Athletic Club\, 999 WILLAMETTE ST\, EUGENE\, OR\, 97401\, United States
CATEGORIES:Free Guest Day(s)
ATTACH;FMTTYPE=image/jpeg:https://www.downtownac.com/wp-content/uploads/2023/02/306913488_10159961450802559_8050636181453641474_n.jpg
END:VEVENT
BEGIN:VEVENT
DTSTART;VALUE=DATE:20260907
DTEND;VALUE=DATE:20260908
DTSTAMP:20260422T155648
CREATED:20260323T180050Z
LAST-MODIFIED:20260323T180050Z
UID:10000248-1788739200-1788825599@www.downtownac.com
SUMMARY:CLOSED - Labor Day
DESCRIPTION:The DAC and Newberry Preschool are closed in observance of Labor Day.
URL:https://www.downtownac.com/event/closed-labor-day/
LOCATION:Downtown Athletic Club\, 999 WILLAMETTE ST\, EUGENE\, OR\, 97401\, United States
CATEGORIES:Holidays
ATTACH;FMTTYPE=image/png:https://www.downtownac.com/wp-content/uploads/2025/06/Closed-on-Labor-Day.png
END:VEVENT
BEGIN:VEVENT
DTSTART;VALUE=DATE:20260925
DTEND;VALUE=DATE:20260926
DTSTAMP:20260422T155648
CREATED:20260126T172843Z
LAST-MODIFIED:20260126T172843Z
UID:10000237-1790294400-1790380799@www.downtownac.com
SUMMARY:Free Guest Friday
DESCRIPTION:Members are allowed to bring in one guest for FREE every last Friday of the month.* \nCome on\, besties. Let’s have a great Friday. \n*Guest must check in with a current DAC member to receive free access. One guest per member allowed during free guest days.
URL:https://www.downtownac.com/event/free-guest-friday-14/2026-09-25/
LOCATION:Downtown Athletic Club\, 999 WILLAMETTE ST\, EUGENE\, OR\, 97401\, United States
CATEGORIES:Free Guest Day(s)
ATTACH;FMTTYPE=image/jpeg:https://www.downtownac.com/wp-content/uploads/2023/02/306913488_10159961450802559_8050636181453641474_n.jpg
END:VEVENT
BEGIN:VEVENT
DTSTART;VALUE=DATE:20261030
DTEND;VALUE=DATE:20261031
DTSTAMP:20260422T155648
CREATED:20260126T172843Z
LAST-MODIFIED:20260126T172843Z
UID:10000238-1793318400-1793404799@www.downtownac.com
SUMMARY:Free Guest Friday
DESCRIPTION:Members are allowed to bring in one guest for FREE every last Friday of the month.* \nCome on\, besties. Let’s have a great Friday. \n*Guest must check in with a current DAC member to receive free access. One guest per member allowed during free guest days.
URL:https://www.downtownac.com/event/free-guest-friday-14/2026-10-30/
LOCATION:Downtown Athletic Club\, 999 WILLAMETTE ST\, EUGENE\, OR\, 97401\, United States
CATEGORIES:Free Guest Day(s)
ATTACH;FMTTYPE=image/jpeg:https://www.downtownac.com/wp-content/uploads/2023/02/306913488_10159961450802559_8050636181453641474_n.jpg
END:VEVENT
BEGIN:VEVENT
DTSTART;VALUE=DATE:20261126
DTEND;VALUE=DATE:20261127
DTSTAMP:20260422T155648
CREATED:20260323T180154Z
LAST-MODIFIED:20260323T180154Z
UID:10000249-1795651200-1795737599@www.downtownac.com
SUMMARY:CLOSED - Thanksgiving
DESCRIPTION:The DAC and Newberry Preschool are closed in observance of Thanksgiving.
URL:https://www.downtownac.com/event/closed-thanksgiving/
LOCATION:Downtown Athletic Club\, 999 WILLAMETTE ST\, EUGENE\, OR\, 97401\, United States
CATEGORIES:Holidays
ATTACH;FMTTYPE=image/png:https://www.downtownac.com/wp-content/uploads/2025/06/Closed-on-Thanksgiving.png
END:VEVENT
BEGIN:VEVENT
DTSTART;VALUE=DATE:20261127
DTEND;VALUE=DATE:20261128
DTSTAMP:20260422T155648
CREATED:20260126T172843Z
LAST-MODIFIED:20260126T172843Z
UID:10000239-1795737600-1795823999@www.downtownac.com
SUMMARY:Free Guest Friday
DESCRIPTION:Members are allowed to bring in one guest for FREE every last Friday of the month.* \nCome on\, besties. Let’s have a great Friday. \n*Guest must check in with a current DAC member to receive free access. One guest per member allowed during free guest days.
URL:https://www.downtownac.com/event/free-guest-friday-14/2026-11-27/
LOCATION:Downtown Athletic Club\, 999 WILLAMETTE ST\, EUGENE\, OR\, 97401\, United States
CATEGORIES:Free Guest Day(s)
ATTACH;FMTTYPE=image/jpeg:https://www.downtownac.com/wp-content/uploads/2023/02/306913488_10159961450802559_8050636181453641474_n.jpg
END:VEVENT
BEGIN:VEVENT
DTSTART;TZID=America/Los_Angeles:20261224T070000
DTEND;TZID=America/Los_Angeles:20261224T140000
DTSTAMP:20260422T155648
CREATED:20260323T180511Z
LAST-MODIFIED:20260323T180511Z
UID:10000251-1798095600-1798120800@www.downtownac.com
SUMMARY:Christmas Eve - Holiday Hours
DESCRIPTION:The DAC is open from 7am – 2pm in observance of Christmas Eve.
URL:https://www.downtownac.com/event/christmas-eve-holiday-hours-3/
LOCATION:Downtown Athletic Club\, 999 WILLAMETTE ST\, EUGENE\, OR\, 97401\, United States
CATEGORIES:Holidays
ATTACH;FMTTYPE=image/png:https://www.downtownac.com/wp-content/uploads/2024/11/happy-holidays.png
END:VEVENT
BEGIN:VEVENT
DTSTART;VALUE=DATE:20261225
DTEND;VALUE=DATE:20261226
DTSTAMP:20260422T155648
CREATED:20260323T180257Z
LAST-MODIFIED:20260323T180257Z
UID:10000250-1798156800-1798243199@www.downtownac.com
SUMMARY:CLOSED - Christmas Day
DESCRIPTION:The DAC and Newberry Preschool are closed in observance of Christmas Day.
URL:https://www.downtownac.com/event/closed-christmas-day/
LOCATION:Downtown Athletic Club\, 999 WILLAMETTE ST\, EUGENE\, OR\, 97401\, United States
CATEGORIES:Holidays
END:VEVENT
BEGIN:VEVENT
DTSTART;TZID=America/Los_Angeles:20261231T070000
DTEND;TZID=America/Los_Angeles:20261231T140000
DTSTAMP:20260422T155648
CREATED:20260323T180617Z
LAST-MODIFIED:20260323T180617Z
UID:10000252-1798700400-1798725600@www.downtownac.com
SUMMARY:New Years Eve - Holiday Hours
DESCRIPTION:The DAC is open from 7am – 2pm in observance of New Years Eve.
URL:https://www.downtownac.com/event/new-years-eve-holiday-hours-3/
LOCATION:Downtown Athletic Club\, 999 WILLAMETTE ST\, EUGENE\, OR\, 97401\, United States
CATEGORIES:Holidays
ATTACH;FMTTYPE=image/png:https://www.downtownac.com/wp-content/uploads/2024/11/happy-holidays.png
END:VEVENT
BEGIN:VEVENT
DTSTART;TZID=America/Los_Angeles:20270101T070000
DTEND;TZID=America/Los_Angeles:20270101T140000
DTSTAMP:20260422T155648
CREATED:20260323T180710Z
LAST-MODIFIED:20260323T180710Z
UID:10000253-1798786800-1798812000@www.downtownac.com
SUMMARY:New Years Day - Holiday Hours
DESCRIPTION:The DAC is open from 7am – 2pm in observance of New Years Day.
URL:https://www.downtownac.com/event/new-years-day-holiday-hours-3/
LOCATION:Downtown Athletic Club\, 999 WILLAMETTE ST\, EUGENE\, OR\, 97401\, United States
CATEGORIES:Holidays
ATTACH;FMTTYPE=image/png:https://www.downtownac.com/wp-content/uploads/2024/11/happy-holidays.png
END:VEVENT
BEGIN:VEVENT
DTSTART;VALUE=DATE:20270129
DTEND;VALUE=DATE:20270130
DTSTAMP:20260422T155648
CREATED:20260126T172843Z
LAST-MODIFIED:20260126T172843Z
UID:10000240-1801180800-1801267199@www.downtownac.com
SUMMARY:Free Guest Friday
DESCRIPTION:Members are allowed to bring in one guest for FREE every last Friday of the month.* \nCome on\, besties. Let’s have a great Friday. \n*Guest must check in with a current DAC member to receive free access. One guest per member allowed during free guest days.
URL:https://www.downtownac.com/event/free-guest-friday-14/2027-01-29/
LOCATION:Downtown Athletic Club\, 999 WILLAMETTE ST\, EUGENE\, OR\, 97401\, United States
CATEGORIES:Free Guest Day(s)
ATTACH;FMTTYPE=image/jpeg:https://www.downtownac.com/wp-content/uploads/2023/02/306913488_10159961450802559_8050636181453641474_n.jpg
END:VEVENT
END:VCALENDAR