BEGIN:VCALENDAR
VERSION:2.0
PRODID:-//Best Gym in Eugene | Eugene, OR | Downtown Athletic Club - ECPv6.15.14//NONSGML v1.0//EN
CALSCALE:GREGORIAN
METHOD:PUBLISH
X-ORIGINAL-URL:https://www.downtownac.com
X-WR-CALDESC:Events for Best Gym in Eugene | Eugene, OR | Downtown Athletic Club
REFRESH-INTERVAL;VALUE=DURATION:PT1H
X-Robots-Tag:noindex
X-PUBLISHED-TTL:PT1H
BEGIN:VTIMEZONE
TZID:America/Los_Angeles
BEGIN:DAYLIGHT
TZOFFSETFROM:-0800
TZOFFSETTO:-0700
TZNAME:PDT
DTSTART:20250309T100000
END:DAYLIGHT
BEGIN:STANDARD
TZOFFSETFROM:-0700
TZOFFSETTO:-0800
TZNAME:PST
DTSTART:20251102T090000
END:STANDARD
BEGIN:DAYLIGHT
TZOFFSETFROM:-0800
TZOFFSETTO:-0700
TZNAME:PDT
DTSTART:20260308T100000
END:DAYLIGHT
BEGIN:STANDARD
TZOFFSETFROM:-0700
TZOFFSETTO:-0800
TZNAME:PST
DTSTART:20261101T090000
END:STANDARD
BEGIN:DAYLIGHT
TZOFFSETFROM:-0800
TZOFFSETTO:-0700
TZNAME:PDT
DTSTART:20270314T100000
END:DAYLIGHT
BEGIN:STANDARD
TZOFFSETFROM:-0700
TZOFFSETTO:-0800
TZNAME:PST
DTSTART:20271107T090000
END:STANDARD
END:VTIMEZONE
BEGIN:VEVENT
DTSTART;TZID=America/Los_Angeles:20260513T170000
DTEND;TZID=America/Los_Angeles:20260513T190000
DTSTAMP:20260425T092759
CREATED:20260416T185234Z
LAST-MODIFIED:20260416T211712Z
UID:10000266-1778691600-1778698800@www.downtownac.com
SUMMARY:Picture Perfect Happy Hour with Moondance Photography
DESCRIPTION:Look great\, feel great…and finally update that LinkedIn photo. Come to the DAC’s Picture Perfect Happy Hour to pair a professional headshot session with good drinks\, great snacks\, and even better company. Photographer Mary Camu of Moondance Photography brings her talent for capturing people at their most authentic\, so forget the stiff poses and uncomfortable smiles. Just show up as you are\, have fun with it\, and walk away with a headshot that actually feels like you. \nGrab your ticket and invite your coworkers; this one’s worth sharing. If you don’t need a headshot but want to network\, you’re more than welcome to come for free\, purchase drinks at the bar and continue networking. \nEvery advance ticket purchase includes: \n\nProfessional headshot session with Mary Camu of Moondance Photography\nOne drink from the bar\nComplimentary bar snacks\nDigital photo delivered to your inbox\n\nMembers: $25 | Non-Members: $30 | Don’t need a headshot but want to connect? Free to attend. \nDAC Lobby | 5pm – 7pm
URL:https://www.downtownac.com/event/picture-perfect-happy-hour-with-moondance-photography/
LOCATION:DAC Lobby\, 999 Willamette St\, EUGENE\, OR\, 97401\, United States
CATEGORIES:Social Event
ATTACH;FMTTYPE=image/png:https://www.downtownac.com/wp-content/uploads/2026/04/Picture-Perfect-Happy-Hour.png
END:VEVENT
END:VCALENDAR