BEGIN:VCALENDAR
VERSION:2.0
PRODID:-//Best Gym in Eugene | Eugene, OR | Downtown Athletic Club - ECPv6.15.14//NONSGML v1.0//EN
CALSCALE:GREGORIAN
METHOD:PUBLISH
X-ORIGINAL-URL:https://www.downtownac.com
X-WR-CALDESC:Events for Best Gym in Eugene | Eugene, OR | Downtown Athletic Club
REFRESH-INTERVAL;VALUE=DURATION:PT1H
X-Robots-Tag:noindex
X-PUBLISHED-TTL:PT1H
BEGIN:VTIMEZONE
TZID:America/Los_Angeles
BEGIN:DAYLIGHT
TZOFFSETFROM:-0800
TZOFFSETTO:-0700
TZNAME:PDT
DTSTART:20240310T100000
END:DAYLIGHT
BEGIN:STANDARD
TZOFFSETFROM:-0700
TZOFFSETTO:-0800
TZNAME:PST
DTSTART:20241103T090000
END:STANDARD
BEGIN:DAYLIGHT
TZOFFSETFROM:-0800
TZOFFSETTO:-0700
TZNAME:PDT
DTSTART:20250309T100000
END:DAYLIGHT
BEGIN:STANDARD
TZOFFSETFROM:-0700
TZOFFSETTO:-0800
TZNAME:PST
DTSTART:20251102T090000
END:STANDARD
BEGIN:DAYLIGHT
TZOFFSETFROM:-0800
TZOFFSETTO:-0700
TZNAME:PDT
DTSTART:20260308T100000
END:DAYLIGHT
BEGIN:STANDARD
TZOFFSETFROM:-0700
TZOFFSETTO:-0800
TZNAME:PST
DTSTART:20261101T090000
END:STANDARD
END:VTIMEZONE
BEGIN:VEVENT
DTSTART;TZID=America/Los_Angeles:20250510T150000
DTEND;TZID=America/Los_Angeles:20250510T160000
DTSTAMP:20260424T010226
CREATED:20250320T225216Z
LAST-MODIFIED:20250320T225216Z
UID:10000067-1746889200-1746892800@www.downtownac.com
SUMMARY:Newberry Family Swim - Fitness Pool Unavailable
DESCRIPTION:Newberry Child Care families are to use the Fitness pool on Saturday\, April 12 and Saturday\, May 10 from 3pm – 4pm. The Fitness Pool will not be open for use during this time. \nWe appreciate your understanding as our preschoolers learn to swim in a safe and comfortable environment.
URL:https://www.downtownac.com/event/newberry-family-swim-fitness-pool-unavailable-2/
LOCATION:Private: Fitness Pool
CATEGORIES:Newberry Child Care
ATTACH;FMTTYPE=image/png:https://www.downtownac.com/wp-content/uploads/2025/03/NCC-Swim-e1742510952326.png
ORGANIZER;CN="Newberry Child Care":MAILTO:ncc@downtownac.com
END:VEVENT
BEGIN:VEVENT
DTSTART;TZID=America/Los_Angeles:20250510T150000
DTEND;TZID=America/Los_Angeles:20250510T160000
DTSTAMP:20260424T010226
CREATED:20250310T224850Z
LAST-MODIFIED:20250417T202347Z
UID:10000065-1746889200-1746892800@www.downtownac.com
SUMMARY:Newberry Child Care Afternoon Swim\, 5/10
DESCRIPTION:Content is protected.
URL:https://www.downtownac.com/event/ncc-afternoon-swim-5-10/
LOCATION:Private: Fitness Pool
CATEGORIES:Newberry Child Care
ORGANIZER;CN="Newberry Child Care":MAILTO:ncc@downtownac.com
END:VEVENT
BEGIN:VEVENT
DTSTART;TZID=America/Los_Angeles:20250412T150000
DTEND;TZID=America/Los_Angeles:20250412T160000
DTSTAMP:20260424T010226
CREATED:20250320T225124Z
LAST-MODIFIED:20250320T225124Z
UID:10000066-1744470000-1744473600@www.downtownac.com
SUMMARY:Newberry Family Swim - Fitness Pool Unavailable
DESCRIPTION:Newberry Child Care families are to use the Fitness pool on Saturday\, April 12 and Saturday\, May 10 from 3pm – 4pm. The Fitness Pool will not be open for use during this time. \nWe appreciate your understanding as our preschoolers learn to swim in a safe and comfortable environment.
URL:https://www.downtownac.com/event/newberry-family-swim-fitness-pool-unavailable/
LOCATION:Private: Fitness Pool
CATEGORIES:Newberry Child Care
ATTACH;FMTTYPE=image/png:https://www.downtownac.com/wp-content/uploads/2025/03/NCC-Swim-e1742510952326.png
ORGANIZER;CN="Newberry Child Care":MAILTO:ncc@downtownac.com
END:VEVENT
BEGIN:VEVENT
DTSTART;TZID=America/Los_Angeles:20250412T150000
DTEND;TZID=America/Los_Angeles:20250412T160000
DTSTAMP:20260424T010226
CREATED:20250310T201455Z
LAST-MODIFIED:20250312T223736Z
UID:10000064-1744470000-1744473600@www.downtownac.com
SUMMARY:Newberry Child Care Afternoon Swim\, 4/12
DESCRIPTION:Content is protected.
URL:https://www.downtownac.com/event/ncc-afternoon-swim-4-12/
LOCATION:Private: Fitness Pool
CATEGORIES:Newberry Child Care
ORGANIZER;CN="Newberry Child Care":MAILTO:ncc@downtownac.com
END:VEVENT
END:VCALENDAR