BEGIN:VCALENDAR
VERSION:2.0
PRODID:-//Best Gym in Eugene | Eugene, OR | Downtown Athletic Club - ECPv6.15.14//NONSGML v1.0//EN
CALSCALE:GREGORIAN
METHOD:PUBLISH
X-ORIGINAL-URL:https://www.downtownac.com
X-WR-CALDESC:Events for Best Gym in Eugene | Eugene, OR | Downtown Athletic Club
REFRESH-INTERVAL;VALUE=DURATION:PT1H
X-Robots-Tag:noindex
X-PUBLISHED-TTL:PT1H
BEGIN:VTIMEZONE
TZID:America/Los_Angeles
BEGIN:DAYLIGHT
TZOFFSETFROM:-0800
TZOFFSETTO:-0700
TZNAME:PDT
DTSTART:20240310T100000
END:DAYLIGHT
BEGIN:STANDARD
TZOFFSETFROM:-0700
TZOFFSETTO:-0800
TZNAME:PST
DTSTART:20241103T090000
END:STANDARD
BEGIN:DAYLIGHT
TZOFFSETFROM:-0800
TZOFFSETTO:-0700
TZNAME:PDT
DTSTART:20250309T100000
END:DAYLIGHT
BEGIN:STANDARD
TZOFFSETFROM:-0700
TZOFFSETTO:-0800
TZNAME:PST
DTSTART:20251102T090000
END:STANDARD
BEGIN:DAYLIGHT
TZOFFSETFROM:-0800
TZOFFSETTO:-0700
TZNAME:PDT
DTSTART:20260308T100000
END:DAYLIGHT
BEGIN:STANDARD
TZOFFSETFROM:-0700
TZOFFSETTO:-0800
TZNAME:PST
DTSTART:20261101T090000
END:STANDARD
END:VTIMEZONE
BEGIN:VEVENT
DTSTART;TZID=America/Los_Angeles:20250511T100000
DTEND;TZID=America/Los_Angeles:20250511T140000
DTSTAMP:20260422T050142
CREATED:20250418T171546Z
LAST-MODIFIED:20250430T192111Z
UID:10000074-1746957600-1746972000@www.downtownac.com
SUMMARY:Mother's Day Unlimited Brunch Buffet
DESCRIPTION:🌸 Celebrate Mom in the Most Delicious Way! 🌸Mother’s Day Brunch | Sunday\, May 11 \nTreat the incredible moms in your life to a celebration as special as they are. Join us for our Mother’s Day Brunch\, featuring mouthwatering dishes\, delightful ambiance\, and a chance to relax and savor the moment. Zest is serving a full buffet brunch with meal stations to choose from\, sweet treats\, and a Bloody Mary/Mimosa Bar! Great options will be available for all dietary needs. Mother’s receive a complimentary drink and a rose.  \nAdults: $60 \nKids (4 – 12 y/o): $20 \nKids 3 and under are free. \nSeating times available: \n🍽 10:00 AM🍽 12:00 PM \nFrom elegant entrées to indulgent desserts\, our brunch is crafted with love—just like Mom’s favorite recipes. Whether you’re toasting with mimosas or sharing stories over fresh-baked pastries\, it’s a meal she’ll remember all year long. \n✨ Advanced ticket purchase required. \nMake this Mother’s Day unforgettable. Reserve your table and give Mom the celebration she deserves.
URL:https://www.downtownac.com/event/mothers-day-brunch/
LOCATION:Zest: Kitchen and Bar\, 999 WILLAMETTE ST; Floor 3\, EUGENE\, OR\, 97401\, United States
CATEGORIES:Holidays
ATTACH;FMTTYPE=image/png:https://www.downtownac.com/wp-content/uploads/2025/04/Mothers-Day-NCC.png
ORGANIZER;CN="Zest%3A Kitchen and Bar":MAILTO:zesteugene@gmail.com
END:VEVENT
BEGIN:VEVENT
DTSTART;VALUE=DATE:20250526
DTEND;VALUE=DATE:20250527
DTSTAMP:20260422T050142
CREATED:20250421T214625Z
LAST-MODIFIED:20250421T214722Z
UID:10000075-1748217600-1748303999@www.downtownac.com
SUMMARY:Memorial Day - CLOSED
DESCRIPTION:The Downtown Athletic Club\, Newberry Child Care\, and Zest are closed in observance of Memorial Day.
URL:https://www.downtownac.com/event/closed/
LOCATION:OR
CATEGORIES:Holidays
ATTACH;FMTTYPE=image/png:https://www.downtownac.com/wp-content/uploads/2025/04/Memorial-Day.png
END:VEVENT
END:VCALENDAR