BEGIN:VCALENDAR
VERSION:2.0
PRODID:-//Best Gym in Eugene | Eugene, OR | Downtown Athletic Club - ECPv6.15.14//NONSGML v1.0//EN
CALSCALE:GREGORIAN
METHOD:PUBLISH
X-ORIGINAL-URL:https://www.downtownac.com
X-WR-CALDESC:Events for Best Gym in Eugene | Eugene, OR | Downtown Athletic Club
REFRESH-INTERVAL;VALUE=DURATION:PT1H
X-Robots-Tag:noindex
X-PUBLISHED-TTL:PT1H
BEGIN:VTIMEZONE
TZID:America/Los_Angeles
BEGIN:DAYLIGHT
TZOFFSETFROM:-0800
TZOFFSETTO:-0700
TZNAME:PDT
DTSTART:20240310T100000
END:DAYLIGHT
BEGIN:STANDARD
TZOFFSETFROM:-0700
TZOFFSETTO:-0800
TZNAME:PST
DTSTART:20241103T090000
END:STANDARD
BEGIN:DAYLIGHT
TZOFFSETFROM:-0800
TZOFFSETTO:-0700
TZNAME:PDT
DTSTART:20250309T100000
END:DAYLIGHT
BEGIN:STANDARD
TZOFFSETFROM:-0700
TZOFFSETTO:-0800
TZNAME:PST
DTSTART:20251102T090000
END:STANDARD
BEGIN:DAYLIGHT
TZOFFSETFROM:-0800
TZOFFSETTO:-0700
TZNAME:PDT
DTSTART:20260308T100000
END:DAYLIGHT
BEGIN:STANDARD
TZOFFSETFROM:-0700
TZOFFSETTO:-0800
TZNAME:PST
DTSTART:20261101T090000
END:STANDARD
END:VTIMEZONE
BEGIN:VEVENT
DTSTART;TZID=America/Los_Angeles:20251124T080000
DTEND;TZID=America/Los_Angeles:20251128T160000
DTSTAMP:20260422T032112
CREATED:20251029T230856Z
LAST-MODIFIED:20251029T231008Z
UID:10000110-1763971200-1764345600@www.downtownac.com
SUMMARY:DAC Camp + DAC Pro Camp
DESCRIPTION:Keep your kids active\, social\, and having fun during school breaks with DAC Camps at the Downtown Athletic Club! \nDAC Camp: A full-day program for ages 6–12\, offered on school closure days and seasonal breaks (dates listed here). Campers enjoy a mix of fitness\, games\, swimming\, and social activities led by our experienced staff from 8am–4pm. \nMember price: $55/day | Guest price: $65/day \nDAC Pro Camp: A three-hour\, sport-specific training camp for ages 9–14\, designed to build athletic skills through drills\, teamwork\, and game play. Sessions run 8am–11am\, with the option to continue into DAC Camp afterward for a full-day experience. \nMember price: $20/day | Add-on: $35/day \nGuest price: $25/day | Add-on: $40/day \nEmail Leah to sign up or inquire: programs@downtownac.com \nDetails and dates listed here. \nThe DAC is closed on Thursday\, 11/27 in observance of Thanksgiving. Camp is not available 11/27.
URL:https://www.downtownac.com/event/dac-camp-dac-pro-camp/
LOCATION:Downtown Athletic Club\, 999 WILLAMETTE ST\, EUGENE\, OR\, 97401\, United States
CATEGORIES:DAC Camps
ATTACH;FMTTYPE=image/png:https://www.downtownac.com/wp-content/uploads/2025/10/DAC-camps-no-words.png
END:VEVENT
END:VCALENDAR